BEGIN:VCALENDAR
VERSION:2.0
PRODID:-//Scottish Tenpin Bowling - ECPv6.15.20//NONSGML v1.0//EN
CALSCALE:GREGORIAN
METHOD:PUBLISH
X-WR-CALNAME:Scottish Tenpin Bowling
X-ORIGINAL-URL:https://bowling.scot
X-WR-CALDESC:Events for Scottish Tenpin Bowling
REFRESH-INTERVAL;VALUE=DURATION:PT1H
X-Robots-Tag:noindex
X-PUBLISHED-TTL:PT1H
BEGIN:VTIMEZONE
TZID:Europe/London
BEGIN:DAYLIGHT
TZOFFSETFROM:+0000
TZOFFSETTO:+0100
TZNAME:BST
DTSTART:20240331T010000
END:DAYLIGHT
BEGIN:STANDARD
TZOFFSETFROM:+0100
TZOFFSETTO:+0000
TZNAME:GMT
DTSTART:20241027T010000
END:STANDARD
BEGIN:DAYLIGHT
TZOFFSETFROM:+0000
TZOFFSETTO:+0100
TZNAME:BST
DTSTART:20250330T010000
END:DAYLIGHT
BEGIN:STANDARD
TZOFFSETFROM:+0100
TZOFFSETTO:+0000
TZNAME:GMT
DTSTART:20251026T010000
END:STANDARD
BEGIN:DAYLIGHT
TZOFFSETFROM:+0000
TZOFFSETTO:+0100
TZNAME:BST
DTSTART:20260329T010000
END:DAYLIGHT
BEGIN:STANDARD
TZOFFSETFROM:+0100
TZOFFSETTO:+0000
TZNAME:GMT
DTSTART:20261025T010000
END:STANDARD
END:VTIMEZONE
BEGIN:VEVENT
DTSTART;VALUE=DATE:20251108
DTEND;VALUE=DATE:20251110
DTSTAMP:20260423T181355
CREATED:20241230T190207Z
LAST-MODIFIED:20251018T113953Z
UID:9208-1762560000-1762732799@bowling.scot
SUMMARY:Adult/Youth Doubles
DESCRIPTION:FORMAT \nGraded Doubles Tournament which will be played scratch split into 2 divisions determined by entering average\, STB Ranking Averages will be used where these exist\, (if no STB average over nine games\, then the bowler’s highest league average must be declared). \nThe divisions will be formed after all entries received to provide and even split from the participating field. Ladies will be awarded 8 bonus pins per game\, this will be added to their entering average to determine the division they play in. \nThe tournament will be played over 6 games\, changing lane after each game. \nNo ball surface changes can be made after practice for the duration of the event. \nIn the event of a tie – Highest last game will break the tie. Ties in high game prizes will split the prize money. \nPrizes and Payouts \nPrize money will be paid to the top 3 teams in each division determined by the highest scratch pinfall (+ ladies bonus pins) from the 6 games played. \nHigh scratch game prizes (each division) will be paid to the highest scratch game (+ ladies bonus pins) in each of the 6 games. \nEntry eligibility \nThis ranking tournament is open to all STB members or non members who pay the one off levy (£15) to enter. \nSTB ranking points will be awarded to MEN and WOMEN based on scratch pinfall over 6 games. \nEntry Form (Adults)\nYouth Entries please contact your club representatives
URL:https://bowling.scot/event/adult-youth-doubles/
LOCATION:L.A. Bowl\, Ayr\, LA Bowl Ayr\, Miller Road\, Ayr\, KA7 2AX
CATEGORIES:Scottish Ranking Event,Tournaments
ORGANIZER;CN="Scottish Tenpin Bowling":MAILTO:entries@bowling.scot
END:VEVENT
END:VCALENDAR